BEGIN:VCALENDAR
VERSION:2.0
PRODID:-//Tukios.com/
BEGIN:VEVENT
UID:358ca82f-a802-4c4d-9428-be85cc4ab04e@www.heffnercare.com
DTSTAMP:20260423T152451Z
DTSTART:20260502T140000Z
DTEND:20260502T150000Z
SUMMARY:Funeral Service
DESCRIPTION:
URL:https://www.heffnercare.com/obituaries/wendy-eckenrode
LOCATION:Heffner Funeral Chapel and Crematory, Inc. 1551 Kenneth Road  
	York PA 17408
GEO:39.9778543;-76.7707821
END:VEVENT
END:VCALENDAR