BEGIN:VCALENDAR
VERSION:2.0
PRODID:-//Tukios.com/
BEGIN:VEVENT
UID:0b34f4ef-bee4-4c8a-9790-1aa4caba5840@www.heffnercare.com
DTSTAMP:20260423T152221Z
DTSTART:20260502T130000Z
DTEND:20260502T140000Z
SUMMARY:Viewing
DESCRIPTION:
URL:https://www.heffnercare.com/obituaries/wendy-eckenrode
LOCATION:Heffner Funeral Chapel and Crematory, Inc. 1551 Kenneth Road  
	York PA 17408
GEO:39.9778543;-76.7707821
END:VEVENT
END:VCALENDAR