BEGIN:VCALENDAR
VERSION:2.0
PRODID:-//Tukios.com/
BEGIN:VEVENT
UID:39842ad4-f4ff-42de-a526-de9db5956835@www.heffnercare.com
DTSTAMP:20260421T014352Z
DTSTART:20260515T140000Z
DTEND:20260515T150000Z
SUMMARY:Mass
DESCRIPTION:
URL:https://www.heffnercare.com/obituaries/joseph-bodisch-sr
LOCATION:Saint Elizabeth Ann Seton Parish 310 Hertzler Road  
	Mechanicsburg PA 17055
GEO:40.1806082;-76.9730372
END:VEVENT
END:VCALENDAR