BEGIN:VCALENDAR
VERSION:2.0
PRODID:-//Tukios.com/
BEGIN:VEVENT
UID:668549e2-2227-447d-b36e-c5e5dc3af253@www.heffnercare.com
DTSTAMP:20260422T194615Z
DTSTART:20260506T150000Z
DTEND:20260506T160000Z
SUMMARY:Celebration of Life
DESCRIPTION:
URL:https://www.heffnercare.com/obituaries/janet-greenplate
LOCATION:Heffner Funeral Chapel & Crematory, Inc. 1551 Kenneth Road  York 
	PA 17408
GEO:39.9778543;-76.7707821
END:VEVENT
END:VCALENDAR