BEGIN:VCALENDAR
VERSION:2.0
PRODID:-//Tukios.com/
BEGIN:VEVENT
UID:6b7b4ad3-813e-461c-9c38-8fbad3d2402e@www.heffnercare.com
DTSTAMP:20260422T194121Z
DTSTART:20260506T140000Z
DTEND:20260506T150000Z
SUMMARY:Viewing
DESCRIPTION:
URL:https://www.heffnercare.com/obituaries/janet-greenplate
LOCATION:Heffner Funeral Chapel & Crematory, Inc. 1551 Kenneth Road  York 
	PA 17408
GEO:39.9778543;-76.7707821
END:VEVENT
END:VCALENDAR