BEGIN:VCALENDAR
VERSION:2.0
PRODID:-//Tukios.com/
BEGIN:VEVENT
UID:134d6f62-1f6a-4f3b-a892-93c0fb22b152@www.heffnercare.com
DTSTAMP:20260424T200038Z
DTSTART:20260427T150000Z
DTEND:20260427T160000Z
SUMMARY:Visitation
DESCRIPTION:
URL:https://www.heffnercare.com/obituaries/deanna-sipe-holtzinger
LOCATION: 35 Gotham Place  Red Lion PA 17356
GEO:39.907621;-76.616821
END:VEVENT
END:VCALENDAR