BEGIN:VCALENDAR
VERSION:2.0
PRODID:-//Tukios.com/
BEGIN:VEVENT
UID:62c80551-6b89-45c7-aa7d-5ee9131d7478@www.heffnercare.com
DTSTAMP:20260424T200232Z
DTSTART:20260427T160000Z
DTEND:20260427T170000Z
SUMMARY:Celebration of Life
DESCRIPTION:
URL:https://www.heffnercare.com/obituaries/deanna-sipe-holtzinger
LOCATION: 35 Gotham Pl  Red Lion PA 17356
GEO:39.907621;-76.616821
END:VEVENT
END:VCALENDAR