BEGIN:VCALENDAR
VERSION:2.0
PRODID:-//Tukios.com/
BEGIN:VEVENT
UID:c95fc424-cf9c-434e-a0f0-ecae0c6bf6d1@www.heffnercare.com
DTSTAMP:20260421T004815Z
DTSTART:20260425T150000Z
DTEND:20260425T160000Z
SUMMARY:Celebration of Life
DESCRIPTION:
URL:https://www.heffnercare.com/obituaries/charles-wherley
LOCATION:Living Word Community Church 2530 Cape Horn Road  Red Lion PA 
	17356
GEO:39.9079521;-76.6235445
END:VEVENT
END:VCALENDAR