BEGIN:VCALENDAR
VERSION:2.0
PRODID:-//Tukios.com/
BEGIN:VEVENT
UID:adc3a6df-24d4-433e-9ecb-52f6e0794314@www.heffnercare.com
DTSTAMP:20260421T004831Z
DTSTART:20260425T140000Z
DTEND:20260425T150000Z
SUMMARY:Viewing
DESCRIPTION:
URL:https://www.heffnercare.com/obituaries/charles-wherley
LOCATION:Living Word Community Church 2530 Cape Horn Road  Red Lion PA 
	17356
GEO:39.9079521;-76.6235445
END:VEVENT
END:VCALENDAR