BEGIN:VCALENDAR
VERSION:2.0
PRODID:-//Tukios.com/
BEGIN:VEVENT
UID:7ee10c4f-3a5d-49ee-ba35-10c8190d7eeb@www.heffnercare.com
DTSTAMP:20260421T004524Z
DTSTART:20260422T220000Z
DTEND:20260423T000000Z
SUMMARY:Viewing
DESCRIPTION:
URL:https://www.heffnercare.com/obituaries/charles-wherley
LOCATION: 35 Gotham Place  Red Lion PA 17356
GEO:39.907621;-76.616821
END:VEVENT
END:VCALENDAR