BEGIN:VCALENDAR
VERSION:2.0
PRODID:-//Tukios.com/
BEGIN:VEVENT
UID:8ac0815c-8de3-4a83-864d-333db1cd624a@www.heffnercare.com
DTSTAMP:20260423T163016Z
DTSTART:20260509T180000Z
DTEND:20260509T190000Z
SUMMARY:Celebration of Life
DESCRIPTION:
URL:https://www.heffnercare.com/obituaries/carl-belcher-sr
LOCATION: 1 North Main Street  East Prospect PA 17317
GEO:39.9725045;-76.5200754
END:VEVENT
END:VCALENDAR