BEGIN:VCALENDAR
VERSION:2.0
PRODID:-//Tukios.com/
BEGIN:VEVENT
UID:12f07c5c-a021-4cb3-bfcb-63094b056d79@www.heffnercare.com
DTSTAMP:20260423T162514Z
DTSTART:20260509T170000Z
DTEND:20260509T180000Z
SUMMARY:Visitation
DESCRIPTION:
URL:https://www.heffnercare.com/obituaries/carl-belcher-sr
LOCATION: 1 North Main Street  East Prospect PA 17317
GEO:39.9725045;-76.5200754
END:VEVENT
END:VCALENDAR