BEGIN:VCALENDAR
VERSION:2.0
PRODID:-//Tukios.com/
BEGIN:VEVENT
UID:d4d3da6b-fe5b-4396-b48a-14ca85a7ac79@www.heffnercare.com
DTSTAMP:20260421T163540Z
DTSTART:20260428T150000Z
DTEND:20260428T160000Z
SUMMARY:Celebration of Life
DESCRIPTION:
URL:https://www.heffnercare.com/obituaries/anita-damiano
LOCATION: 1551 Kenneth Road  York PA 17408
GEO:39.9778543;-76.7707821
END:VEVENT
END:VCALENDAR