BEGIN:VCALENDAR
VERSION:2.0
PRODID:-//Tukios.com/
BEGIN:VEVENT
UID:9f084562-43c9-4c0f-82a5-733737c771ff@www.heffnercare.com
DTSTAMP:20260421T164034Z
DTSTART:20260428T140000Z
DTEND:20260428T150000Z
SUMMARY:Visitation
DESCRIPTION:
URL:https://www.heffnercare.com/obituaries/anita-damiano
LOCATION:Heffner Funeral Chapel & Crematory, Inc. 1551 Kenneth Road  York 
	PA 17408
GEO:39.9778543;-76.7707821
END:VEVENT
END:VCALENDAR