BEGIN:VCALENDAR
VERSION:2.0
PRODID:-//Tukios.com/
BEGIN:VEVENT
UID:b5953e99-c901-4bf0-8f20-44be2ffa9c08@www.heffnercare.com
DTSTAMP:20260421T163405Z
DTSTART:20260427T200000Z
DTEND:20260427T220000Z
SUMMARY:Viewing
DESCRIPTION:
URL:https://www.heffnercare.com/obituaries/anita-damiano
LOCATION:Heffner Funeral Chapel & Crematory, Inc. 1551 Kenneth Road  York 
	PA 17408
GEO:39.9778543;-76.7707821
END:VEVENT
END:VCALENDAR